BEGIN:VCALENDAR
VERSION:2.0
PRODID:-//Thames Valley Riding Club - ECPv6.15.11//NONSGML v1.0//EN
CALSCALE:GREGORIAN
METHOD:PUBLISH
X-ORIGINAL-URL:https://temp.tvrc.co.uk
X-WR-CALDESC:Events for Thames Valley Riding Club
REFRESH-INTERVAL;VALUE=DURATION:PT1H
X-Robots-Tag:noindex
X-PUBLISHED-TTL:PT1H
BEGIN:VTIMEZONE
TZID:Europe/London
BEGIN:DAYLIGHT
TZOFFSETFROM:+0000
TZOFFSETTO:+0100
TZNAME:BST
DTSTART:20210328T010000
END:DAYLIGHT
BEGIN:STANDARD
TZOFFSETFROM:+0100
TZOFFSETTO:+0000
TZNAME:GMT
DTSTART:20211031T010000
END:STANDARD
BEGIN:DAYLIGHT
TZOFFSETFROM:+0000
TZOFFSETTO:+0100
TZNAME:BST
DTSTART:20220327T010000
END:DAYLIGHT
BEGIN:STANDARD
TZOFFSETFROM:+0100
TZOFFSETTO:+0000
TZNAME:GMT
DTSTART:20221030T010000
END:STANDARD
BEGIN:DAYLIGHT
TZOFFSETFROM:+0000
TZOFFSETTO:+0100
TZNAME:BST
DTSTART:20230326T010000
END:DAYLIGHT
BEGIN:STANDARD
TZOFFSETFROM:+0100
TZOFFSETTO:+0000
TZNAME:GMT
DTSTART:20231029T010000
END:STANDARD
BEGIN:DAYLIGHT
TZOFFSETFROM:+0000
TZOFFSETTO:+0100
TZNAME:BST
DTSTART:20240331T010000
END:DAYLIGHT
BEGIN:STANDARD
TZOFFSETFROM:+0100
TZOFFSETTO:+0000
TZNAME:GMT
DTSTART:20241027T010000
END:STANDARD
END:VTIMEZONE
BEGIN:VEVENT
DTSTART;TZID=Europe/London:20230527T100000
DTEND;TZID=Europe/London:20230527T120000
DTSTAMP:20260421T174825
CREATED:20230319T131402Z
LAST-MODIFIED:20230319T131402Z
UID:1097-1685181600-1685188800@temp.tvrc.co.uk
SUMMARY:Simulated XC clinic with Liza Faircloth
DESCRIPTION:Simulated Cross-country session. Practising the challenges you may face in competition but in the arena using poles/various obstacles. Suitable for all levels from green horses or nervous riders to more experienced combinations who want to pick up tips and homework or get in some pre-season prep on a guaranteed good surface. \nInstructor:\nLiza Faircloth BHSI and BHS Stage 5 Performance Coach in Complete Horsemanship \nVisit TVRC Web Collect to book
URL:https://temp.tvrc.co.uk/event/simulated-xc-clinic-with-liza-faircloth/
LOCATION:Barge Farm\, Taplow\, Barge Farm Equestrian\, Amerden Lane\, Taplow\, BUCKS\, SL6 0EB
END:VEVENT
BEGIN:VEVENT
DTSTART;TZID=Europe/London:20230520T140000
DTEND;TZID=Europe/London:20230520T160000
DTSTAMP:20260421T174825
CREATED:20230319T131123Z
LAST-MODIFIED:20230319T131123Z
UID:1095-1684591200-1684598400@temp.tvrc.co.uk
SUMMARY:Rider Health\, Menopause in Sport - The Body
DESCRIPTION:A highly informative and interactive talk lead by Vicki Causer\, founder of Real.Strong.Women.  \nWe’ll talk through what you really need to know about the biggest hormonal transition you’ll go through since your teens. Exercise can be a super power in managing menopause symptoms if used in the right way. Understanding what type of exercise\, when and why\, and how it interlinks with our hormone balance can support us in a long and healthy life; working to support our pelvic health\, bone health\, heart health\, and brain health to name a few! \nMore about Vicki: https://www.realstrongwomen.co.uk/meet-vicki \nVisit TVRC Web Collect to book
URL:https://temp.tvrc.co.uk/event/rider-health-menopause-in-sport-the-body/
END:VEVENT
BEGIN:VEVENT
DTSTART;TZID=Europe/London:20230514T080000
DTEND;TZID=Europe/London:20230514T170000
DTSTAMP:20260421T174825
CREATED:20221130T174228Z
LAST-MODIFIED:20221130T174228Z
UID:1069-1684051200-1684083600@temp.tvrc.co.uk
SUMMARY:Summer SJ Teams Event
DESCRIPTION:Summer SJ Teams Event at BCA – 70cm to 1m10.
URL:https://temp.tvrc.co.uk/event/summer-sj-teams-event/
LOCATION:Berkshire College Of Agriculture\, Hall Place\, Burchetts Green\, Maidenhead\, Berks\, SL66QR\, United Kingdom
ORGANIZER;CN="Lara Booth":MAILTO:lara.booth@genesys.com
END:VEVENT
BEGIN:VEVENT
DTSTART;TZID=Europe/London:20230429T120000
DTEND;TZID=Europe/London:20230429T140000
DTSTAMP:20260421T174825
CREATED:20230319T130033Z
LAST-MODIFIED:20230319T130033Z
UID:1089-1682769600-1682776800@temp.tvrc.co.uk
SUMMARY:X-train and Jump clinic with Sarah Schofield
DESCRIPTION:Instructor:\nSarah (Schoie) Schofield – BHS Stage 4 Senior Coach in Complete Horsemanship\, Senior Coach – https://www.facebook.com/Sarahschofieldequestrian/ \nLesson:\n1 hour sessions\nMax 4 people per group\nGroups will be allocated \nVisit TVRC Web Collect to book
URL:https://temp.tvrc.co.uk/event/x-train-and-jump-clinic-with-sarah-schofield/
LOCATION:Barge Farm\, Taplow\, Barge Farm Equestrian\, Amerden Lane\, Taplow\, BUCKS\, SL6 0EB
END:VEVENT
BEGIN:VEVENT
DTSTART;TZID=Europe/London:20230429T100000
DTEND;TZID=Europe/London:20230429T120000
DTSTAMP:20260421T174825
CREATED:20230319T125420Z
LAST-MODIFIED:20230319T130506Z
UID:1087-1682762400-1682769600@temp.tvrc.co.uk
SUMMARY:Flatwork and poles workout with Sarah Schofield
DESCRIPTION:Instructor:\nSarah (Schoie) Schofield – BHS Stage 4 Senior Coach in Complete Horsemanship\, Senior Coach – https://www.facebook.com/Sarahschofieldequestrian/ \nLesson:\n1 hour sessions\nMax 4 people per group\nGroups will be allocated \nVisit TVRC Web Collect to book
URL:https://temp.tvrc.co.uk/event/flatwork-poles-workout-with-sarah-schofield/
LOCATION:Barge Farm\, Taplow\, Barge Farm Equestrian\, Amerden Lane\, Taplow\, BUCKS\, SL6 0EB
END:VEVENT
BEGIN:VEVENT
DTSTART;TZID=Europe/London:20230422T100000
DTEND;TZID=Europe/London:20230422T120000
DTSTAMP:20260421T174825
CREATED:20230319T125142Z
LAST-MODIFIED:20230319T130640Z
UID:1085-1682157600-1682164800@temp.tvrc.co.uk
SUMMARY:Simulated XC with Liza Fircloth
DESCRIPTION:Simulated Cross-country session. Practising the challenges you may face in competition but in the arena using poles/various obstacles. Suitable for all levels from green horses or nervous riders to more experienced combinations who want to pick up tips and homework or get in some pre-season prep on a guaranteed good surface. \nVisit TVRC Web Collect to book
URL:https://temp.tvrc.co.uk/event/simulated-xc-with-liza-fircloth/
LOCATION:Barge Farm\, Taplow\, Barge Farm Equestrian\, Amerden Lane\, Taplow\, BUCKS\, SL6 0EB
END:VEVENT
BEGIN:VEVENT
DTSTART;VALUE=DATE:20230416
DTEND;VALUE=DATE:20230417
DTSTAMP:20260421T174825
CREATED:20221125T112132Z
LAST-MODIFIED:20221125T112132Z
UID:1049-1681603200-1681689599@temp.tvrc.co.uk
SUMMARY:TVRC Dressage Series 3 - Open Event
DESCRIPTION:Tests from Intro to Elementary \nWarm up outside\, tests inside. \nA friendly and welcoming show\, open to non members and members alike
URL:https://temp.tvrc.co.uk/event/tvrc-dressage-series-3-open-event/
LOCATION:Berkshire College Of Agriculture\, Hall Place\, Burchetts Green\, Maidenhead\, Berks\, SL66QR\, United Kingdom
ORGANIZER;CN="Emma Delport":MAILTO:Emma_delport@yahoo.co.uk
END:VEVENT
BEGIN:VEVENT
DTSTART;TZID=Europe/London:20230401T100000
DTEND;TZID=Europe/London:20230401T130000
DTSTAMP:20260421T174825
CREATED:20230315T170031Z
LAST-MODIFIED:20230315T170031Z
UID:1082-1680343200-1680354000@temp.tvrc.co.uk
SUMMARY:XC clinic at Chiltern CXC
DESCRIPTION:1 hour sessions\, Max 4 people per group at Chiltern CXC\nTaught by Sarah (Schoie) Schofield – BHS Stage 4 Senior Coach in Complete Horsemanship\, Senior Coach\n£36.50 member price including course hire \nVisit TVRC Web Collect to book
URL:https://temp.tvrc.co.uk/event/xc-clinic-at-chiltern-cxc/
LOCATION:Chiltern XC\, Woodcote
END:VEVENT
BEGIN:VEVENT
DTSTART;VALUE=DATE:20230318
DTEND;VALUE=DATE:20230319
DTSTAMP:20260421T174825
CREATED:20221125T112038Z
LAST-MODIFIED:20221125T112038Z
UID:1047-1679097600-1679183999@temp.tvrc.co.uk
SUMMARY:TVRC Dressage Series 2 - Open Event
DESCRIPTION:Tests from Intro to Elementary \nWarm up outside\, tests inside. \nA friendly and welcoming show\, open to non members and members alike
URL:https://temp.tvrc.co.uk/event/tvrc-dressage-series-2-open-event/
LOCATION:Berkshire College Of Agriculture\, Hall Place\, Burchetts Green\, Maidenhead\, Berks\, SL66QR\, United Kingdom
ORGANIZER;CN="Emma Delport":MAILTO:Emma_delport@yahoo.co.uk
END:VEVENT
BEGIN:VEVENT
DTSTART;TZID=Europe/London:20230304T080000
DTEND;TZID=Europe/London:20230304T170000
DTSTAMP:20260421T174825
CREATED:20221130T174058Z
LAST-MODIFIED:20221130T174058Z
UID:1067-1677916800-1677949200@temp.tvrc.co.uk
SUMMARY:Area Winter SJ
DESCRIPTION:Team SJ at BCA\, 70\, 80\, 90\, 100 and 110cm teams
URL:https://temp.tvrc.co.uk/event/area-winter-sj/
LOCATION:Berkshire College Of Agriculture\, Hall Place\, Burchetts Green\, Maidenhead\, Berks\, SL66QR\, United Kingdom
ORGANIZER;CN="Lara Booth":MAILTO:lara.booth@genesys.com
END:VEVENT
BEGIN:VEVENT
DTSTART;VALUE=DATE:20230129
DTEND;VALUE=DATE:20230130
DTSTAMP:20260421T174825
CREATED:20221125T111747Z
LAST-MODIFIED:20221125T111747Z
UID:1045-1674950400-1675036799@temp.tvrc.co.uk
SUMMARY:TVRC Dressage Series 1 - Open Event
DESCRIPTION:Tests from Intro to Elementary \nWarm up outside\, tests inside. \nA friendly and welcoming show\, open to non members and members alike
URL:https://temp.tvrc.co.uk/event/tvrc-dressage-series-1-open-event/
LOCATION:Berkshire College Of Agriculture\, Hall Place\, Burchetts Green\, Maidenhead\, Berks\, SL66QR\, United Kingdom
ORGANIZER;CN="Emma Delport":MAILTO:Emma_delport@yahoo.co.uk
END:VEVENT
BEGIN:VEVENT
DTSTART;TZID=Europe/London:20221218T100000
DTEND;TZID=Europe/London:20221218T130000
DTSTAMP:20260421T174825
CREATED:20221125T112254Z
LAST-MODIFIED:20221125T112254Z
UID:1051-1671357600-1671368400@temp.tvrc.co.uk
SUMMARY:TVRC Christmas Ride
DESCRIPTION:A festive opportunity to ride around the lovely tracks at BCA and catch up with friends over refreshments afterwards
URL:https://temp.tvrc.co.uk/event/tvrc-christmas-ride/
LOCATION:Berkshire College Of Agriculture\, Hall Place\, Burchetts Green\, Maidenhead\, Berks\, SL66QR\, United Kingdom
ORGANIZER;CN="Katy Smith":MAILTO:katymsmith@hotmail.com
END:VEVENT
BEGIN:VEVENT
DTSTART;TZID=Europe/London:20221210T090000
DTEND;TZID=Europe/London:20221210T140000
DTSTAMP:20260421T174825
CREATED:20221125T113439Z
LAST-MODIFIED:20221125T113439Z
UID:1053-1670662800-1670680800@temp.tvrc.co.uk
SUMMARY:Mechanical Horse Lessons
DESCRIPTION:Lessons with Liza Faircloth at Cullinghood Equestrian Centre\, on the Mechanical Horse
URL:https://temp.tvrc.co.uk/event/mechanical-horse-lessons/
LOCATION:Cullinghood Equestrian Centre\, Heron Farm\, RG8 8QA
ORGANIZER;CN="Lara Booth":MAILTO:lara.booth@genesys.com
END:VEVENT
BEGIN:VEVENT
DTSTART;TZID=Europe/London:20221120T080000
DTEND;TZID=Europe/London:20221120T170000
DTSTAMP:20260421T174825
CREATED:20220104T135125Z
LAST-MODIFIED:20220104T135125Z
UID:832-1668931200-1668963600@temp.tvrc.co.uk
SUMMARY:TVRC Autumn Open SJ Show @ BCA
DESCRIPTION:TVRC Autumn Open SJ \nClasses from 30cm to 90cm \nEntries open in October
URL:https://temp.tvrc.co.uk/event/tvrc-autumn-open-sj-show-bca/
LOCATION:Berkshire College Of Agriculture\, Hall Place\, Burchetts Green\, Maidenhead\, Berks\, SL66QR\, United Kingdom
ORGANIZER;CN="Emma Delport":MAILTO:Emma_delport@yahoo.co.uk
END:VEVENT
BEGIN:VEVENT
DTSTART;TZID=Europe/London:20220925T080000
DTEND;TZID=Europe/London:20220925T170000
DTSTAMP:20260421T174825
CREATED:20220104T135007Z
LAST-MODIFIED:20220104T135007Z
UID:830-1664092800-1664125200@temp.tvrc.co.uk
SUMMARY:TVRC Open SJ Show @ BCA
DESCRIPTION:TVRC Autumn Open SJ \nClasses from 30cm to 90cm \nEntries open in August
URL:https://temp.tvrc.co.uk/event/tvrc-open-sj-show-bca/
LOCATION:Berkshire College Of Agriculture\, Hall Place\, Burchetts Green\, Maidenhead\, Berks\, SL66QR\, United Kingdom
ORGANIZER;CN="Emma Delport":MAILTO:Emma_delport@yahoo.co.uk
END:VEVENT
BEGIN:VEVENT
DTSTART;TZID=Europe/London:20220821T080000
DTEND;TZID=Europe/London:20220821T170000
DTSTAMP:20260421T174825
CREATED:20220104T134833Z
LAST-MODIFIED:20220104T134833Z
UID:828-1661068800-1661101200@temp.tvrc.co.uk
SUMMARY:Area 6 Summer Dressage to Music Qualifier
DESCRIPTION:Area 6 Summer Dressage to Music Qualifier\, details TBC\, entries via Team Manager
URL:https://temp.tvrc.co.uk/event/area-6-summer-dressage-to-music-qualifier/
LOCATION:Berkshire College Of Agriculture\, Hall Place\, Burchetts Green\, Maidenhead\, Berks\, SL66QR\, United Kingdom
ORGANIZER;CN="Alex Hopkins":MAILTO:ahrhopkins@gmail.com
END:VEVENT
BEGIN:VEVENT
DTSTART;VALUE=DATE:20220805
DTEND;VALUE=DATE:20220808
DTSTAMP:20260421T174825
CREATED:20220104T135341Z
LAST-MODIFIED:20220104T135441Z
UID:834-1659657600-1659916799@temp.tvrc.co.uk
SUMMARY:TVRC 3 Day Camp @ MKEC
DESCRIPTION:TVRC Three Day Camp at MKEC. \nContact Emma for further details \nBooking will open 1st February via WebCollect https://webcollect.org.uk/tvrc \n 
URL:https://temp.tvrc.co.uk/event/tvrc-3-day-camp-mkec/
LOCATION:Milton Keynes Eventing Centre\, 43 Castlethorpe Road\, Hanslope\, Milton Keynes\, MK19 7HQ\, United Kingdom
END:VEVENT
BEGIN:VEVENT
DTSTART;VALUE=DATE:20220716
DTEND;VALUE=DATE:20220717
DTSTAMP:20260421T174825
CREATED:20220614T110223Z
LAST-MODIFIED:20220614T110442Z
UID:1036-1657929600-1658015999@temp.tvrc.co.uk
SUMMARY:In-Hand Clinic with Sam Thurman-Baker
DESCRIPTION:In-hand clinic at New Hatches\, Great Kingshill\n45min session with your own horse\, in-hand. \nLearn the art of classical training in-hand with GP rider\, Sam.\n£50 per session. \nVisit TVRC Web Collect to book
URL:https://temp.tvrc.co.uk/event/in-hand-clinic-with-sam-thurman-baker-3/
LOCATION:New Hatches\, New Hatches\, Hatches Lane\, Great Kingshill\, Buckinghamshire\,\, Buckinghamshire\,\, HP156DS
END:VEVENT
BEGIN:VEVENT
DTSTART;TZID=Europe/London:20220710T080000
DTEND;TZID=Europe/London:20220710T170000
DTSTAMP:20260421T174825
CREATED:20220104T134730Z
LAST-MODIFIED:20220104T134730Z
UID:826-1657440000-1657472400@temp.tvrc.co.uk
SUMMARY:Area 6 Summer SJ Qualifier @ BCA
DESCRIPTION:Area 6 Summer SJ Qualifier\, details TBC\, entries via Team Manager
URL:https://temp.tvrc.co.uk/event/area-6-summer-sj-qualifier-bca/
LOCATION:Berkshire College Of Agriculture\, Hall Place\, Burchetts Green\, Maidenhead\, Berks\, SL66QR\, United Kingdom
ORGANIZER;CN="Lara Booth":MAILTO:lara.booth@genesys.com
END:VEVENT
BEGIN:VEVENT
DTSTART;TZID=Europe/London:20220619T080000
DTEND;TZID=Europe/London:20220619T170000
DTSTAMP:20260421T174825
CREATED:20220104T134558Z
LAST-MODIFIED:20220104T134558Z
UID:823-1655625600-1655658000@temp.tvrc.co.uk
SUMMARY:Area 6 Summer Dressage Qualifier
DESCRIPTION:Area 6 Summer Dressage Qualifier\, details TBC\, entries via Team Manager
URL:https://temp.tvrc.co.uk/event/area-6-summer-dressage-qualifier/
ORGANIZER;CN="Alex Hopkins":MAILTO:ahrhopkins@gmail.com
END:VEVENT
BEGIN:VEVENT
DTSTART;VALUE=DATE:20220610
DTEND;VALUE=DATE:20220613
DTSTAMP:20260421T174825
CREATED:20220104T135609Z
LAST-MODIFIED:20220104T135717Z
UID:836-1654819200-1655078399@temp.tvrc.co.uk
SUMMARY:TVRC 3 Day Camp at Boomerang Stables
DESCRIPTION:TVRC Three Day Camp at Boomerang. \nContact Emma for further details \nBooking will open 1st February via WebCollect
URL:https://temp.tvrc.co.uk/event/tvrc-3-day-camp-at-boomerang-stables/
LOCATION:Boomerang\, RG17 0TW
ORGANIZER;CN="Emma Delport":MAILTO:Emma_delport@yahoo.co.uk
END:VEVENT
BEGIN:VEVENT
DTSTART;TZID=Europe/London:20220528T100000
DTEND;TZID=Europe/London:20220528T150000
DTSTAMP:20260421T174825
CREATED:20220402T134201Z
LAST-MODIFIED:20220402T134201Z
UID:915-1653732000-1653750000@temp.tvrc.co.uk
SUMMARY:Arena XC Lessons with Liza Faircloth at Aston le Walls
DESCRIPTION:A trip to Aston le Walls to use their fantastic arena XC set up – heights from 65cm to Advanced so something for everyone!  \nBooking is essential! Visit our page on Web Collect to book and confirm your place
URL:https://temp.tvrc.co.uk/event/arena-xc-lessons-with-liza-faircloth-at-aston-le-walls/
LOCATION:Aston le Walls
ORGANIZER;CN="Emma Delport":MAILTO:Emma_delport@yahoo.co.uk
END:VEVENT
BEGIN:VEVENT
DTSTART;TZID=Europe/London:20220528T080000
DTEND;TZID=Europe/London:20220528T170000
DTSTAMP:20260421T174825
CREATED:20220104T134349Z
LAST-MODIFIED:20220104T134349Z
UID:821-1653724800-1653757200@temp.tvrc.co.uk
SUMMARY:Area 6 Horse Trials Qualifier
DESCRIPTION:Area 6 Horse Trials Teams Qualifier – Details TBC\, entries via Team Manager
URL:https://temp.tvrc.co.uk/event/area-6-horse-trials-qualifier/
ORGANIZER;CN="Kelly Austin":MAILTO:  kellyijumpedoutofaplane@hotmail.com
END:VEVENT
BEGIN:VEVENT
DTSTART;VALUE=DATE:20220508
DTEND;VALUE=DATE:20220509
DTSTAMP:20260421T174825
CREATED:20220503T115301Z
LAST-MODIFIED:20220503T115301Z
UID:1032-1651968000-1652054399@temp.tvrc.co.uk
SUMMARY:In-Hand Clinic with Sm Thurman-Baker
DESCRIPTION:New Hatches Rehab & Livery – Sunday 3rd April  \nBring your horse to an in-hand clinic with Sam Thurman-Baker. Learn the art of lateral work from the ground!  \nSessions are 45 minutes long\, with individual training from Sam. (own horse required) \n£50 (Members only) If you are a non member\, and interested in attending please contact katerzepka81@gmail.com  \nBook now via Webcollect
URL:https://temp.tvrc.co.uk/event/in-hand-clinic-with-sm-thurman-baker/
LOCATION:New Hatches\, New Hatches\, Hatches Lane\, Great Kingshill\, Buckinghamshire\,\, Buckinghamshire\,\, HP156DS
END:VEVENT
BEGIN:VEVENT
DTSTART;TZID=Europe/London:20220423T100000
DTEND;TZID=Europe/London:20220423T140000
DTSTAMP:20260421T174825
CREATED:20220316T133402Z
LAST-MODIFIED:20220316T133402Z
UID:913-1650708000-1650722400@temp.tvrc.co.uk
SUMMARY:SJ Clinic at BCA with Ellie Ballian
DESCRIPTION:SJ Clinic at BCA with popular coach Ellie Ballian
URL:https://temp.tvrc.co.uk/event/sj-clinic-at-bca-with-ellie-ballian/
LOCATION:Berkshire College Of Agriculture\, Hall Place\, Burchetts Green\, Maidenhead\, Berks\, SL66QR\, United Kingdom
END:VEVENT
BEGIN:VEVENT
DTSTART;TZID=Europe/London:20220410T080000
DTEND;TZID=Europe/London:20220410T170000
DTSTAMP:20260421T174825
CREATED:20220316T132856Z
LAST-MODIFIED:20220316T133020Z
UID:911-1649577600-1649610000@temp.tvrc.co.uk
SUMMARY:Area 6 Combined Challenge
DESCRIPTION:Area 6 Team Event “Combined Challenge”. New for this year\, this consists of a course of SJ immediately followed by a course of XC jumps. Contact Kelly for more information!
URL:https://temp.tvrc.co.uk/event/area-6-combined-challenge/
LOCATION:Munstead\, Heath Lane\, Goldaming\, Surrey\, GU7 1XA\, United Kingdom
ORGANIZER;CN="Kelly Austin":MAILTO:  kellyijumpedoutofaplane@hotmail.com
END:VEVENT
BEGIN:VEVENT
DTSTART;TZID=Europe/London:20220409T080000
DTEND;TZID=Europe/London:20220409T170000
DTSTAMP:20260421T174826
CREATED:20220104T134055Z
LAST-MODIFIED:20220104T134055Z
UID:817-1649491200-1649523600@temp.tvrc.co.uk
SUMMARY:TVC Dressage Series 3 @ BCA
DESCRIPTION:The third and final competition in our TVRC Spring Dressage Series at BCA. Entries via MRL (see above)
URL:https://temp.tvrc.co.uk/event/tvc-dressage-series-3-bca/
ORGANIZER;CN="Emma Delport":MAILTO:Emma_delport@yahoo.co.uk
END:VEVENT
BEGIN:VEVENT
DTSTART;TZID=Europe/London:20220403T090000
DTEND;TZID=Europe/London:20220403T130000
DTSTAMP:20260421T174826
CREATED:20220205T111557Z
LAST-MODIFIED:20220316T132423Z
UID:879-1648976400-1648990800@temp.tvrc.co.uk
SUMMARY:Test Riding Clinic with Alex Hopkins
DESCRIPTION:30 minute sessions including discussion of the test\, riding through\, and follow up practice and coaching.  You will have 30 minutes to warm up beforehand. \nIdeal practice for the TVRC dressage the following weekend!
URL:https://temp.tvrc.co.uk/event/test-riding-clinic-with-alex-hopkins/
LOCATION:Barge Farm\, Taplow\, Barge Farm Equestrian\, Amerden Lane\, Taplow\, BUCKS\, SL6 0EB
END:VEVENT
BEGIN:VEVENT
DTSTART;VALUE=DATE:20220403
DTEND;VALUE=DATE:20220404
DTSTAMP:20260421T174826
CREATED:20220307T150951Z
LAST-MODIFIED:20220307T200602Z
UID:896-1648944000-1649030399@temp.tvrc.co.uk
SUMMARY:In-Hand Clinic with Sam Thurman-Baker
DESCRIPTION:New Hatches Rehab & Livery – Sunday 3rd April  \nBring your horse to an in-hand clinic with Sam Thurman-Baker. Learn the art of lateral work from the ground!  \nSessions are 45 minutes long\, with individual training from Sam. (own horse required) \n£50 (Members only) If you are a non member\, and interested in attending please contact katerzepka81@gmail.com  \nBook now via Webcollect
URL:https://temp.tvrc.co.uk/event/in-hand-clinic-with-sam-thurman-baker-2/
LOCATION:New Hatches\, New Hatches\, Hatches Lane\, Great Kingshill\, Buckinghamshire\,\, Buckinghamshire\,\, HP156DS
END:VEVENT
BEGIN:VEVENT
DTSTART;TZID=Europe/London:20220402T100000
DTEND;TZID=Europe/London:20220402T150000
DTSTAMP:20260421T174826
CREATED:20220316T132333Z
LAST-MODIFIED:20220316T132539Z
UID:907-1648893600-1648911600@temp.tvrc.co.uk
SUMMARY:Bitting Clinic with Laura Wright
DESCRIPTION:45 minute talk\, FREE to TVRC Members (small charge to non-members) followed by one-to-one consultations with your horse\, with Bitting Expert Laura Wright
URL:https://temp.tvrc.co.uk/event/bitting-clinic-with-laura-wright/
LOCATION:Barge Farm\, Taplow\, Barge Farm Equestrian\, Amerden Lane\, Taplow\, BUCKS\, SL6 0EB
END:VEVENT
END:VCALENDAR